BEGIN:VCALENDAR
VERSION:2.0
PRODID:-//Segelclub Wendelsee Thun//NONSGML kigkonsult.se iCalcreator 2.16.
 12//
METHOD:PUBLISH
X-MS-OLK-FORCEINSPECTOROPEN:TRUE
BEGIN:VEVENT
UID:20260419T181744CEST-7425UdDFxb@Segelclub Wendelsee Thun
DTSTAMP:20260419T161744Z
DESCRIPTION:Samschtigplausch mit Abendfahrt\n\nSamstag\, 24. Juni 2023 am N
 achmittag\n- Apéro im Güetital um ca 16:00 Uhr\n- Baden und Nachtessen\n- 
 Entweder Übernachten oder Abendfahrt\n   zurück\, dies nach Absprache unte
 r den\n   Teilnehmenden.\nDer Anlass wird durchgeführt.\n\n04.06.2023/ 22.
 06.2023/ der Vorstand\n
DTSTART:20230624T150000
DTEND:20230624T220000
LOCATION:Güetital
ORGANIZER:MAILTO:Segelclub Wendelsee Thun <info@scwe.ch>
SUMMARY:Samschtigplausch
END:VEVENT
END:VCALENDAR
