BEGIN:VCALENDAR
VERSION:2.0
PRODID:-//Segelclub Wendelsee Thun//NONSGML kigkonsult.se iCalcreator 2.16.
 12//
METHOD:PUBLISH
X-MS-OLK-FORCEINSPECTOROPEN:TRUE
BEGIN:VEVENT
UID:20260419T171044CEST-2285eXgtBV@Segelclub Wendelsee Thun
DTSTAMP:20260419T151044Z
DESCRIPTION:\nAnsegeln\nGemeinsame Segelfahrt ab 13:30 Uhr.\nKurs\nThun vor
  dem BLS-Kanal - Kanderdelta - Gunten - Fischzucht Faulensee - Thun\, SCWe
 \,\nwenn der Wind mitmacht und es nicht regnet.\n\nAchtung:\nWegen der sch
 lechten Wetterprognose führen wir das Ansegeln am 13. Mai nicht durch.\n\n
 \n12.05.2023/ Der Vorstand\n
DTSTART:20230513T133000
DTEND:20230513T173000
LOCATION:Unteres Seebecken/ SCWe-Lokal
ORGANIZER:MAILTO:Segelclub Wendelsee Thun <info@scwe.ch>
SUMMARY:Ansegeln 2023
END:VEVENT
END:VCALENDAR
