BEGIN:VCALENDAR
VERSION:2.0
PRODID:-//Segelclub Wendelsee Thun//NONSGML kigkonsult.se iCalcreator 2.16.
 12//
METHOD:PUBLISH
X-MS-OLK-FORCEINSPECTOROPEN:TRUE
BEGIN:VEVENT
UID:20260419T172716CEST-13347Rf9DI@Segelclub Wendelsee Thun
DTSTAMP:20260419T152716Z
DESCRIPTION:
DTSTART:20160820T140000
DTEND:20160820T190000
LOCATION:Thunersee
ORGANIZER:MAILTO:Segelclub Wendelsee Thun <info@scwe.ch>
SUMMARY:Regatta - Wendelsee Cup
END:VEVENT
END:VCALENDAR
