BEGIN:VCALENDAR
VERSION:2.0
PRODID:-//Segelclub Wendelsee Thun//NONSGML kigkonsult.se iCalcreator 2.16.
 12//
METHOD:PUBLISH
X-MS-OLK-FORCEINSPECTOROPEN:TRUE
BEGIN:VEVENT
UID:20260419T172827CEST-3752S0tIu4@Segelclub Wendelsee Thun
DTSTAMP:20260419T152827Z
DESCRIPTION:Helferabend 2022/2023\n\nDatum:    Freitag\, 10. März 2023\nZei
 t:         18:45 Uhr\nOrt:          Schifflände Oberhofen mit Apéro\n     
             Nachtessen im Kreuz\n\nDetails gemäss persönlicher Einladung.
DTSTART:20230310T184500
DTEND:20230310T223000
LOCATION:Oberhofen
ORGANIZER:MAILTO:Segelclub Wendelsee Thun <info@scwe.ch>
SUMMARY:Helferabend 2023
END:VEVENT
END:VCALENDAR
