BEGIN:VCALENDAR
VERSION:2.0
PRODID:-//Segelclub Wendelsee Thun//NONSGML kigkonsult.se iCalcreator 2.16.
 12//
METHOD:PUBLISH
X-MS-OLK-FORCEINSPECTOROPEN:TRUE
BEGIN:VEVENT
UID:20260419T172423CEST-9963xi0SGf@Segelclub Wendelsee Thun
DTSTAMP:20260419T152423Z
DESCRIPTION:\n50. SCWe-GV 2023 \n\nGV mit anschliessendem Znüni\n\nDatum:  
   Freitag\, 24. März 2023\nZeit:         19:30 Uhr Beginn\nOrt:          T
 hun\, Burehuus\n\nDie Einladung wurde am 01.03.2023 verschickt.\n15.02.202
 3/ Der Vorstand\n
DTSTART:20230324T193000
DTEND:20230324T220000
LOCATION:Thun
ORGANIZER:MAILTO:Segelclub Wendelsee Thun <info@scwe.ch>
SUMMARY:Generalversammlung
END:VEVENT
END:VCALENDAR
