BEGIN:VCALENDAR
VERSION:2.0
PRODID:-//Segelclub Wendelsee Thun//NONSGML kigkonsult.se iCalcreator 2.16.
 12//
METHOD:PUBLISH
X-MS-OLK-FORCEINSPECTOROPEN:TRUE
BEGIN:VEVENT
UID:20260419T172820CEST-6482MBwfdM@Segelclub Wendelsee Thun
DTSTAMP:20260419T152820Z
DESCRIPTION:\n\nMonatshöck mit Fondue\n\nDatum:    Freitag\, 3. Februar 202
 3\nZeit:         19:00 Uhr\, Apéro\nOrt:           SCWe-Clublokal\nMenue: 
    Fondue\, Brot\, Kartoffel\, Dessert\n\nDetails siehe in der Einladung. 
 Um eine Anmeldung wird gebeten.\n\n15.01.2023/ der Vorstand
DTSTART:20230203T190000
DTEND:20230203T230000
LOCATION:Thun
ORGANIZER:MAILTO:Segelclub Wendelsee Thun <info@scwe.ch>
SUMMARY:Februar-Höck
END:VEVENT
END:VCALENDAR
