BEGIN:VCALENDAR
VERSION:2.0
PRODID:-//Segelclub Wendelsee Thun//NONSGML kigkonsult.se iCalcreator 2.16.
 12//
METHOD:PUBLISH
X-MS-OLK-FORCEINSPECTOROPEN:TRUE
BEGIN:VEVENT
UID:20260419T174418CEST-91318vzR0k@Segelclub Wendelsee Thun
DTSTAMP:20260419T154418Z
DESCRIPTION:Apéro zwischendurch im Hotel Holiday\, Thun\n\nJeweils ab 11:00
  Uhr bis ca 12:00 Uhr.\nKeine Anmeldung - einfach kommen.
DTSTART:20221216T110000
DTEND:20221216T120000
LOCATION:Hotel Holiday
ORGANIZER:MAILTO:Segelclub Wendelsee Thun <info@scwe.ch>
SUMMARY:Apéro zwischendurch
END:VEVENT
END:VCALENDAR
