BEGIN:VCALENDAR
VERSION:2.0
PRODID:-//Segelclub Wendelsee Thun//NONSGML kigkonsult.se iCalcreator 2.16.
 12//
METHOD:PUBLISH
X-MS-OLK-FORCEINSPECTOROPEN:TRUE
BEGIN:VEVENT
UID:20260419T171032CEST-1350nXZ00O@Segelclub Wendelsee Thun
DTSTAMP:20260419T151032Z
DESCRIPTION:\nAltjahrshöck 2023\n\nGemütlicher Jahresausklang mit einem Rac
 lette und Foto-Jahresrückblick.\n\nDatum:            Donnerstag\, 28. Deze
 mber 2023\nZeit:                 19:00 Uhr Apéro\, 19:30 Uhr Raclette\nOrt
 :                  Clublokal\nAnmeldung:    Ja\, gerne bis So\, 24.12.2023
 \n\n02.12.2023/ Der Vorstand und Heinz Gasser
DTSTART:20231228T190000
DTEND:20231228T230000
LOCATION:SCWe-Lokal
ORGANIZER:MAILTO:Segelclub Wendelsee Thun <info@scwe.ch>
SUMMARY:Altjahrshöck: Raclette
END:VEVENT
END:VCALENDAR
