BEGIN:VCALENDAR
VERSION:2.0
PRODID:-//Segelclub Wendelsee Thun//NONSGML kigkonsult.se iCalcreator 2.16.
 12//
METHOD:PUBLISH
X-MS-OLK-FORCEINSPECTOROPEN:TRUE
BEGIN:VEVENT
UID:20260419T172525CEST-0281gv3HpF@Segelclub Wendelsee Thun
DTSTAMP:20260419T152525Z
DESCRIPTION:\n\nDatum             Freitag\, 2. Dezember 2022\nZeit:        
          Ab 19:00 Uhr\nOrt:                  Clublokal\nAnmeldung:    Ja\,
  bis am Di\, 29.11.2022\n\nTraditioneller\, gemütlicher Höck mit Chlousesa
 che und viel Wärme.\n\nDas Höck-Komitee: Françoise\, Maja\, Fritz und Mart
 a
DTSTART:20221202T190000
DTEND:20221202T230000
LOCATION:SCWe-Lokal
ORGANIZER:MAILTO:Segelclub Wendelsee Thun <info@scwe.ch>
SUMMARY:Chlousehöck
END:VEVENT
END:VCALENDAR
