BEGIN:VCALENDAR
VERSION:2.0
PRODID:-//Segelclub Wendelsee Thun//NONSGML kigkonsult.se iCalcreator 2.16.
 12//
METHOD:PUBLISH
X-MS-OLK-FORCEINSPECTOROPEN:TRUE
BEGIN:VEVENT
UID:20260419T181745CEST-8828Uig7vP@Segelclub Wendelsee Thun
DTSTAMP:20260419T161745Z
DESCRIPTION:\n\nOffizieller Jahresschlussabend in Thun im Restaurant 'Bureh
 uus' ab 18:30 Uhr.\nDetails siehe in der Einladung.\n\nAnmeldung bis Diens
 tag\, 22. November 2022 an den Kassier Alfred Blaser Anmeldung Seebärenabe
 nd
DTSTART:20221126T183000
DTEND:20221126T223000
LOCATION:Thun
ORGANIZER:MAILTO:Segelclub Wendelsee Thun <info@scwe.ch>
SUMMARY:Seebärenabend 2022
END:VEVENT
END:VCALENDAR
