BEGIN:VCALENDAR
VERSION:2.0
PRODID:-//Segelclub Wendelsee Thun//NONSGML kigkonsult.se iCalcreator 2.16.
 12//
METHOD:PUBLISH
X-MS-OLK-FORCEINSPECTOROPEN:TRUE
BEGIN:VEVENT
UID:20260419T185218CEST-5721NRSVPC@Segelclub Wendelsee Thun
DTSTAMP:20260419T165218Z
DESCRIPTION:Liebe SCWe’ler\n\nWir möchten euch alle herzlich zum SCWe – 7. 
 Augustbrunch einladen. Der Brunch vom Sonntag\, 7. August 2016 ist einer d
 er Höhenpunkte der Saison!\n\nAuch dieses Jahr haben wir euch ein kulinari
 schen „Verwöhnprogramm“\, d.h. frische Früchte\, Brotsorten\, Rösti und Rü
 hrei\, ein reichhaltiges Käse- und Fleischangebot und verschiedene Getränk
 e\, zusammen gestellt! Es sollen alle Wünsche berücksichtigt werden und un
 sere Gäste diesen Sonntagmorgen und den gemeinsam Brunch geniessen können!
 \n\nDer Anlass findet bei schöner Witterung auf dem Rasen vor dem Ruderclu
 b statt\, bei Regen im Clubhaus. Wir erwarten euch ab 9.30 Uhr beim Clubha
 us mit grossem Appetit auf viele regionale Köstlichkeiten! Kosten pro Pers
 on 20.00 Franken (Kinder bezahlen ihr Alter in Franken).\n\nAnmeldung bis 
 am 4. August 2016
DTSTART:20160807T113000
DTEND:20160807T150000
LOCATION:Clublokal
ORGANIZER:MAILTO:Segelclub Wendelsee Thun <info@scwe.ch>
SUMMARY:August-Brunch
END:VEVENT
END:VCALENDAR
