BEGIN:VCALENDAR
VERSION:2.0
PRODID:-//Segelclub Wendelsee Thun//NONSGML kigkonsult.se iCalcreator 2.16.
 12//
METHOD:PUBLISH
X-MS-OLK-FORCEINSPECTOROPEN:TRUE
BEGIN:VEVENT
UID:20260419T172820CEST-9144gk8fUn@Segelclub Wendelsee Thun
DTSTAMP:20260419T152820Z
DESCRIPTION:Apéro zwischendurch\nAnstelle des Apéros im Holiday fahren wir 
 mit der BLS zum Mittagessen nach Faulensee.\n\nOrt:        BLS-Fahrt ab Th
 un\nDatum:    Freitag\, 14. Oktober 2022\nZeit:        noch offen\n\nMit A
 nmeldung für das Mittagessen
DTSTART:20221014T080000
DTEND:20221014T150000
LOCATION:Thunersee
ORGANIZER:MAILTO:Segelclub Wendelsee Thun <info@scwe.ch>
SUMMARY:BLS-Fahrt mit Mittagessen
END:VEVENT
END:VCALENDAR
