BEGIN:VCALENDAR
VERSION:2.0
PRODID:-//Segelclub Wendelsee Thun//NONSGML kigkonsult.se iCalcreator 2.16.
 12//
METHOD:PUBLISH
X-MS-OLK-FORCEINSPECTOROPEN:TRUE
BEGIN:VEVENT
UID:20260419T172853CEST-10484kpGOV@Segelclub Wendelsee Thun
DTSTAMP:20260419T152853Z
DESCRIPTION:TBSV-Cup 2022\nRangverkündigung im YCSp-Clublokal am Samstag\, 
 8. Oktober 2022 um 11:00 Uhr.
DTSTART:20221008T110000
DTEND:20221008T120000
LOCATION:Spiez\, YCSp
ORGANIZER:MAILTO:Segelclub Wendelsee Thun <info@scwe.ch>
SUMMARY:TBSV-Cup-Rangverkündigung
END:VEVENT
END:VCALENDAR
