BEGIN:VCALENDAR
VERSION:2.0
PRODID:-//Segelclub Wendelsee Thun//NONSGML kigkonsult.se iCalcreator 2.16.
 12//
METHOD:PUBLISH
X-MS-OLK-FORCEINSPECTOROPEN:TRUE
BEGIN:VEVENT
UID:20260419T172409CEST-0546L6e5Ub@Segelclub Wendelsee Thun
DTSTAMP:20260419T152409Z
DESCRIPTION:\nAnlass auf See und an Land\n\nWir treffen uns nach dem indivi
 duellen Segeln vor Anker südlich dem Bonstetteninseli und geniessen den Ap
 éro.\nAnschliessend Spaghettiessen und Seemannsgarn im Clublokal.\n\nDas W
 etter ist gut\, folglich wird der Teil auf dem Wasser durchgeführt.\nDetai
 ls siehe in der Einladung. Eine Anmeldung für das Nachtessen ist notwendig
 .\n\n28.09.2022/14.10.2022 Der Vorstand
DTSTART:20221015T133000
DTEND:20221015T220000
LOCATION:Thunersee/ Clubhaus
ORGANIZER:MAILTO:Segelclub Wendelsee Thun <info@scwe.ch>
SUMMARY:Absegeln 2022
END:VEVENT
END:VCALENDAR
