BEGIN:VCALENDAR
VERSION:2.0
PRODID:-//Segelclub Wendelsee Thun//NONSGML kigkonsult.se iCalcreator 2.16.
 12//
METHOD:PUBLISH
X-MS-OLK-FORCEINSPECTOROPEN:TRUE
BEGIN:VEVENT
UID:20260419T181745CEST-38300lOoLD@Segelclub Wendelsee Thun
DTSTAMP:20260419T161745Z
DESCRIPTION:\nFotoyachting 2022\nWährend dem Monat September 2022 gilt es\,
  auf dem See gute Stimmungen einzufangen. Drei Fotos werden zu einer Bilde
 rreihe zusammengestellt.\nDetails siehe in der Beilage '2022 Fotoyachting'
 \n\nEs braucht keine Anmeldung - einfach loslassen und das Produkt einsend
 en.\n\n03.09.2022/ Präsident
DTSTART:20220903T080000
DTEND:20220930T180000
LOCATION:Thunersee
ORGANIZER:MAILTO:Segelclub Wendelsee Thun <info@scwe.ch>
SUMMARY:Fotoyachting 2022
END:VEVENT
END:VCALENDAR
