BEGIN:VCALENDAR
VERSION:2.0
PRODID:-//Segelclub Wendelsee Thun//NONSGML kigkonsult.se iCalcreator 2.16.
 12//
METHOD:PUBLISH
X-MS-OLK-FORCEINSPECTOROPEN:TRUE
BEGIN:VEVENT
UID:20260419T181822CEST-9039WVDvU8@Segelclub Wendelsee Thun
DTSTAMP:20260419T161822Z
DESCRIPTION:Hotel Holiday in Thun\nBeginn 11:00 Uhr\nOhne Anmeldung
DTSTART:20220916T110000
DTEND:20220916T120000
LOCATION:Hotel Holiday
ORGANIZER:MAILTO:Segelclub Wendelsee Thun <info@scwe.ch>
SUMMARY:Apéro zwischendurch
END:VEVENT
END:VCALENDAR
