BEGIN:VCALENDAR
VERSION:2.0
PRODID:-//Segelclub Wendelsee Thun//NONSGML kigkonsult.se iCalcreator 2.16.
 12//
METHOD:PUBLISH
X-MS-OLK-FORCEINSPECTOROPEN:TRUE
BEGIN:VEVENT
UID:20260419T181809CEST-9277VDVBUr@Segelclub Wendelsee Thun
DTSTAMP:20260419T161809Z
DESCRIPTION:\n\nDatum          Freitag\, 2. September 2022\nBeginn         
  um 19:00 Uhr\n\nGastgeber   Marianne und Ruedi Mäusli\n\nUm eine Anmeldun
 g bis 31. August 2022 wird gebeten.\n\nDer Vorstand\, 22.08.2022
DTSTART:20220902T190000
DTEND:20220902T230000
LOCATION:Thun\, SCWe-Lokal
ORGANIZER:MAILTO:Segelclub Wendelsee Thun <info@scwe.ch>
SUMMARY:Septemberhöck 2022
END:VEVENT
END:VCALENDAR
