BEGIN:VCALENDAR
VERSION:2.0
PRODID:-//Segelclub Wendelsee Thun//NONSGML kigkonsult.se iCalcreator 2.16.
 12//
METHOD:PUBLISH
X-MS-OLK-FORCEINSPECTOROPEN:TRUE
BEGIN:VEVENT
UID:20260419T181617CEST-8071ALDe9h@Segelclub Wendelsee Thun
DTSTAMP:20260419T161617Z
DESCRIPTION:Ironman 2022 in Thun\nAm Sonntag\, 10. Juli findet zum zweiten 
 Mal der Ironman Switzerland in Thun statt. An diesem Morgen ist die Hafena
 usfahrt wegen den Schwimmern gesperrt.\nDieses Rennen wurde übrigens zum #
 1 Bucket List IRONMAN-Rennen der Welt erwählt und ist ein kommerzieller An
 lass!\nWo Licht ist\, ist aber auch Schatten: Es wird Verkehrsbehinderunge
 n in der Region Thun-Einigen-Amsoldingen-Belp und - für uns relevant - Bee
 inträchtigungen im Bereich Hafen und im unteren Seebecken geben.\n\nBeacht
 et auch\, dass bereits ab kommenden Montag (4.7) keine Autos mehr auf dem 
 Lachenplatz parkiert werden können!\n\n02.07.2022\n 
DTSTART:20220704T103000
DTEND:20220707T180000
LOCATION:Thun\, Lachen
ORGANIZER:MAILTO:Segelclub Wendelsee Thun <info@scwe.ch>
SUMMARY:Ironman 2022 Thun (10. Juli)
END:VEVENT
END:VCALENDAR
