BEGIN:VCALENDAR
VERSION:2.0
PRODID:-//Segelclub Wendelsee Thun//NONSGML kigkonsult.se iCalcreator 2.16.
 12//
METHOD:PUBLISH
X-MS-OLK-FORCEINSPECTOROPEN:TRUE
BEGIN:VEVENT
UID:20260419T181810CEST-3127lpvxEN@Segelclub Wendelsee Thun
DTSTAMP:20260419T161810Z
DESCRIPTION:SCWe-Classic\n\nClubegatta mit Gästen\nDatum:    Sonntag\, 21. 
 August 2022\nZeit:         Start um 14:00 Uhr\n\nAusschreibung im Manage2S
 ail.\n\nProgramm\nEs wird ein Lauf gesegelt. Alle Klassen. Anschliessend U
 mtrunk und Rangverkündigung im SCWe.\n\nDokumente zur Regatta\n- Sicherhei
 tsdispo SCWe\n- TBSV-Segelanweisungen\n\n\n01.08.2022/ der Vorstand
DTSTART:20220821T133000
DTEND:20220821T170000
LOCATION:unteres Seebecken
ORGANIZER:MAILTO:Segelclub Wendelsee Thun <info@scwe.ch>
SUMMARY:SCWe-Classic
END:VEVENT
END:VCALENDAR
