BEGIN:VCALENDAR
VERSION:2.0
PRODID:-//Segelclub Wendelsee Thun//NONSGML kigkonsult.se iCalcreator 2.16.
 12//
METHOD:PUBLISH
X-MS-OLK-FORCEINSPECTOROPEN:TRUE
BEGIN:VEVENT
UID:20260419T182013CEST-0232L8mh6d@Segelclub Wendelsee Thun
DTSTAMP:20260419T162013Z
DESCRIPTION:SCWe-Cup\, TBSV-Cup-Regatta Nummer 3\nDatum:    Samstag\, 20. A
 ugust 2022\nZeit:         Start ab 13:30 Uhr\n\nProgramm\nMehrere Läufe ge
 mäss Ausschreibung Manage2Sail und TBSV-Kurse.\nAnschliessend Einlaufbier\
 , Rangverkündigung und Grillbratwurst.\n\nDokumente zur Regatta\n- Sicherh
 eitsdispo SCWe\n- TBSV-Segelanweisungen
DTSTART:20220820T133000
DTEND:20220820T190000
LOCATION:Unteres Seebecken/ SCWe
ORGANIZER:MAILTO:Segelclub Wendelsee Thun <info@scwe.ch>
SUMMARY:SCWe-Cup
END:VEVENT
END:VCALENDAR
