BEGIN:VCALENDAR
VERSION:2.0
PRODID:-//Segelclub Wendelsee Thun//NONSGML kigkonsult.se iCalcreator 2.16.
 12//
METHOD:PUBLISH
X-MS-OLK-FORCEINSPECTOROPEN:TRUE
BEGIN:VEVENT
UID:20260419T172525CEST-3196pPMUDL@Segelclub Wendelsee Thun
DTSTAMP:20260419T152525Z
DESCRIPTION:Liebe SCWe'ler\n\n \n\n​Konrad Gysi verwöhnt und in diesm Monat
  mit\n\n \n\nPollo Tonato mit Sommersalat\n\n \n\nund zum Dessert gibts\n
 \n \n\nBeerenüberraschung\n\n \n\nWir freuen uns auf zahlreiche Gäste und 
 nehmen eure Anmeldung gerne bis am Donnerstag\, 2. Juni 2016 - 18:00 Uhr e
 ntgegen. \n
DTSTART:20160603T210000
DTEND:20160604T014900
LOCATION:Clublokal
ORGANIZER:MAILTO:Segelclub Wendelsee Thun <info@scwe.ch>
SUMMARY:Juni Höck
END:VEVENT
END:VCALENDAR
