BEGIN:VCALENDAR
VERSION:2.0
PRODID:-//Segelclub Wendelsee Thun//NONSGML kigkonsult.se iCalcreator 2.16.
 12//
METHOD:PUBLISH
X-MS-OLK-FORCEINSPECTOROPEN:TRUE
BEGIN:VEVENT
UID:20260419T195217CEST-1132ODIZgN@Segelclub Wendelsee Thun
DTSTAMP:20260419T175217Z
DESCRIPTION:RUGRISE: Rudern-Grillieren-Segeln\n\nDatum:         Sa\, 6. Aug
 ust 2022\nAusweich:    Sa\, 13. August 2022\nZeit:               09:00 Uhr
  - ca 17:00 Uhr\nDetails:         Siehe in der Einladung\n\nProgramm\nAm V
 ormittag Schnupperrudern für uns Segler\, am Mittag gemeinsames Grillieren
  und am Nachmittag Schnuppersegeln für die Ruderer.\nSollte der Morgen seh
 r windig sein\, kehren wir das Programm um.\n\n17.07.2022/ Der Vorstand
DTSTART:20220806T090000
DTEND:20220806T170000
LOCATION:Thun
ORGANIZER:MAILTO:Segelclub Wendelsee Thun <info@scwe.ch>
SUMMARY:RUGRISE
END:VEVENT
END:VCALENDAR
