BEGIN:VCALENDAR
VERSION:2.0
PRODID:-//Segelclub Wendelsee Thun//NONSGML kigkonsult.se iCalcreator 2.16.
 12//
METHOD:PUBLISH
X-MS-OLK-FORCEINSPECTOROPEN:TRUE
BEGIN:VEVENT
UID:20260419T195217CEST-3728mniAWS@Segelclub Wendelsee Thun
DTSTAMP:20260419T175217Z
DESCRIPTION:\nSCWe-Einhandfahrt 2022\n\nAnlass:      Eine Ausfahrt\; keine 
 Regatta\nDatum:     Samstag\, 16. Juli 2022\nZeit:          13:30 Uhr bis 
 ca 17:00 Uhr\nApéro:       Beim Clublokal ca 16:30 Uhr\nDetails:     Siehe
  Einladung\nRegen:      Verschiebungsdatum 23. Juli 2022\n\nUm eine Anmeld
 ung per Mail wird gebeten.\n\nVorstand\, 16.07.2022\n
DTSTART:20220716T133000
DTEND:20220716T170000
LOCATION:Unteres Seebecken
ORGANIZER:MAILTO:Segelclub Wendelsee Thun <info@scwe.ch>
SUMMARY:Einhandfahrt
END:VEVENT
END:VCALENDAR
