BEGIN:VCALENDAR
VERSION:2.0
PRODID:-//Segelclub Wendelsee Thun//NONSGML kigkonsult.se iCalcreator 2.16.
 12//
METHOD:PUBLISH
X-MS-OLK-FORCEINSPECTOROPEN:TRUE
BEGIN:VEVENT
UID:20260419T181708CEST-3366V7IP8H@Segelclub Wendelsee Thun
DTSTAMP:20260419T161708Z
DESCRIPTION:\n\nSamschtigplausch im Güetital\nDank dem sonnigen Wetter wird
  der Anlass durchgeführt.\nTreffen:    Hafen Güetital an der Mole\nDatum: 
    Samstag\, 2. Juli 2022\, ev Sonntag\nEv.:           Uebernachten auf de
 m Boot\nZeit:         Ab 15:00 Uhr Eintreffen\nApéro:     Ab ca 16:00 Uhr
 \nDetails:    Siehe in der Einladung\n\nUm eine Anmeldung per Mail wird ge
 beten.\n\n05.05.2022/ 01.07.2022 der Vorstand
DTSTART:20220702T133000
DTEND:20220702T180000
LOCATION:Güetital
ORGANIZER:MAILTO:Segelclub Wendelsee Thun <info@scwe.ch>
SUMMARY:Samschtigsplausch
END:VEVENT
END:VCALENDAR
