BEGIN:VCALENDAR
VERSION:2.0
PRODID:-//Segelclub Wendelsee Thun//NONSGML kigkonsult.se iCalcreator 2.16.
 12//
METHOD:PUBLISH
X-MS-OLK-FORCEINSPECTOROPEN:TRUE
BEGIN:VEVENT
UID:20260419T181822CEST-0163FL6jeU@Segelclub Wendelsee Thun
DTSTAMP:20260419T161822Z
DESCRIPTION:Apéro zwischendurch im Holiday\nvon 11:00 Uhr bis 12:00 Uhr.\n
 \nOhne Anmeldung\; einfach kommen wer Lust hat
DTSTART:20220715T110000
DTEND:20220715T120000
LOCATION:Hotel Holiday
ORGANIZER:MAILTO:Segelclub Wendelsee Thun <info@scwe.ch>
SUMMARY:Apéro zwischendurch
END:VEVENT
END:VCALENDAR
