BEGIN:VCALENDAR
VERSION:2.0
PRODID:-//Segelclub Wendelsee Thun//NONSGML kigkonsult.se iCalcreator 2.16.
 12//
METHOD:PUBLISH
X-MS-OLK-FORCEINSPECTOROPEN:TRUE
BEGIN:VEVENT
UID:20260419T181708CEST-6059cvsL9X@Segelclub Wendelsee Thun
DTSTAMP:20260419T161708Z
DESCRIPTION:Apéro zwischendurch im Hotel Holiday\n\nZeit:      11:00 - 12:0
 0 Uhr\nEinfach kommen\; keine Anmeldung.
DTSTART:20220617T110000
DTEND:20220617T120000
LOCATION:Hotel Holiday
ORGANIZER:MAILTO:Segelclub Wendelsee Thun <info@scwe.ch>
SUMMARY:Apéro zwischendurch
END:VEVENT
END:VCALENDAR
