BEGIN:VCALENDAR
VERSION:2.0
PRODID:-//Segelclub Wendelsee Thun//NONSGML kigkonsult.se iCalcreator 2.16.
 12//
METHOD:PUBLISH
X-MS-OLK-FORCEINSPECTOROPEN:TRUE
BEGIN:VEVENT
UID:20260419T181601CEST-7625fsd6az@Segelclub Wendelsee Thun
DTSTAMP:20260419T161601Z
DESCRIPTION:\nDer Junihöck ist der Grillhöck 2022:\nDatum:         Freitag\
 , 3. Juni 2022\nZeit:               Ab 19:00 Uhr\nOrt:                Räse
 li vor dem Clubhaus\n                       bei schönem Wetter\nRegen:    
        Essen im Clubraum\nClubwirte:     Daniel\, Thomas\, Brigitte\nAnmel
 dung: Erwünscht für die Vorbereitungen\n\n18.05.2022/ Vorstand\n
DTSTART:20220603T190000
DTEND:20220603T223000
LOCATION:Vorplatz/ Clublokal
ORGANIZER:MAILTO:Segelclub Wendelsee Thun <info@scwe.ch>
SUMMARY:Junihöck: Grillieren
END:VEVENT
END:VCALENDAR
