BEGIN:VCALENDAR
VERSION:2.0
PRODID:-//Segelclub Wendelsee Thun//NONSGML kigkonsult.se iCalcreator 2.16.
 12//
METHOD:PUBLISH
X-MS-OLK-FORCEINSPECTOROPEN:TRUE
BEGIN:VEVENT
UID:20260419T181601CEST-3535W7Osl7@Segelclub Wendelsee Thun
DTSTAMP:20260419T161601Z
DESCRIPTION:Einweihung des Strämu\, 100 Jahre Strämu und Einweihung des neu
 en Lachenhafens am Samstag\, 7. Mai 2022.\nDiverse Veranstaltungen am Sams
 tag und am Sonntag.\nSiehe unter Jungfrau Zeitung oder Stadt Thun\n\nDer V
 orstand\n
DTSTART:20220507T093000
DTEND:20220507T230000
LOCATION:Lachenhafen
ORGANIZER:MAILTO:Segelclub Wendelsee Thun <info@scwe.ch>
SUMMARY:Hafeneinweihung Lachen
END:VEVENT
END:VCALENDAR
