BEGIN:VCALENDAR
VERSION:2.0
PRODID:-//Segelclub Wendelsee Thun//NONSGML kigkonsult.se iCalcreator 2.16.
 12//
METHOD:PUBLISH
X-MS-OLK-FORCEINSPECTOROPEN:TRUE
BEGIN:VEVENT
UID:20260419T181822CEST-3034sSbNfg@Segelclub Wendelsee Thun
DTSTAMP:20260419T161822Z
DESCRIPTION:\nSpezieller Apéro zwischendurch\n\nEs gibt zwei Gründe zum Fei
 ern. Deshalb treffen wir uns am 13. Mai 2022 um 11:00 Uhr vor dem Clubloka
 l auf dem Räseli oder im Club zum speziellen Apéro.\nDies je nach Witterun
 g.\n\nUm eine Anmeldung wird gebeten: info@scwe.ch\n 
DTSTART:20220513T110000
DTEND:20220513T120000
LOCATION:Vorplatz/ SCWe-Lokal
ORGANIZER:MAILTO:Segelclub Wendelsee Thun <info@scwe.ch>
SUMMARY:Einladung: Apéro zwischendurch - 100 Jahre
END:VEVENT
END:VCALENDAR
