BEGIN:VCALENDAR
VERSION:2.0
PRODID:-//Segelclub Wendelsee Thun//NONSGML kigkonsult.se iCalcreator 2.16.
 12//
METHOD:PUBLISH
X-MS-OLK-FORCEINSPECTOROPEN:TRUE
BEGIN:VEVENT
UID:20260419T172524CEST-8085R6USSD@Segelclub Wendelsee Thun
DTSTAMP:20260419T152524Z
DESCRIPTION:
DTSTART:20160701T210000
DTEND:20160702T015900
LOCATION:Clublokal
ORGANIZER:MAILTO:Segelclub Wendelsee Thun <info@scwe.ch>
SUMMARY:Juli Höck - Brätle
END:VEVENT
END:VCALENDAR
