BEGIN:VCALENDAR
VERSION:2.0
PRODID:-//Segelclub Wendelsee Thun//NONSGML kigkonsult.se iCalcreator 2.16.
 12//
METHOD:PUBLISH
X-MS-OLK-FORCEINSPECTOROPEN:TRUE
BEGIN:VEVENT
UID:20260419T181617CEST-3301ZwZU7u@Segelclub Wendelsee Thun
DTSTAMP:20260419T161617Z
DESCRIPTION:
DTSTART:20220121T143000
DTEND:20220121T150000
ORGANIZER:MAILTO:Segelclub Wendelsee Thun <info@scwe.ch>
SUMMARY:SCWe-Jahresprogramm 2022
END:VEVENT
END:VCALENDAR
