BEGIN:VCALENDAR
VERSION:2.0
PRODID:-//Segelclub Wendelsee Thun//NONSGML kigkonsult.se iCalcreator 2.16.
 12//
METHOD:PUBLISH
X-MS-OLK-FORCEINSPECTOROPEN:TRUE
BEGIN:VEVENT
UID:20260419T181822CEST-6476NEct2E@Segelclub Wendelsee Thun
DTSTAMP:20260419T161822Z
DESCRIPTION:\n\nRegattaregeln für alle Regattasegler\n\nAuffrischen der Reg
 attaregeln\, Fragen stellen und Diskussion.\nOrt:         TYC\nZeit:      
  19:00 Uhr\n\nLeitung: Stefan Pulfer\, Ressort Ausbildung Swiss Sailing\nB
 itte anmelden an ausbildung@tbsv.ch \n\nAnschliessend 5 Regattatrainings j
 eweils am Mittwochabend ab 18:30 Uhr für Yachten\, Cats und Jollen.\n\nEs 
 fägt - machet mit!\n
DTSTART:20220427T190000
DTEND:20220427T210000
LOCATION:TYC
ORGANIZER:MAILTO:Segelclub Wendelsee Thun <info@scwe.ch>
SUMMARY:Regelabend für Regattasegler
END:VEVENT
END:VCALENDAR
