BEGIN:VCALENDAR
VERSION:2.0
PRODID:-//Segelclub Wendelsee Thun//NONSGML kigkonsult.se iCalcreator 2.16.
 12//
METHOD:PUBLISH
X-MS-OLK-FORCEINSPECTOROPEN:TRUE
BEGIN:VEVENT
UID:20260419T181908CEST-9655nOVaA3@Segelclub Wendelsee Thun
DTSTAMP:20260419T161908Z
DESCRIPTION:\n\nApéro zwischendurch im Hotel Holiday in Thun\n\nAchtung\nAm
  Donnerstag\, 14. April 2022 - nicht am Karfreitag.\n\nBesonderes\nGemeins
 ames Eiertütschen erwünscht!\n\nOhne Anmeldung von 11:00 bis 12:00 Uhr.
DTSTART:20220414T110000
DTEND:20220414T120000
LOCATION:Hotel Holiday
ORGANIZER:MAILTO:Segelclub Wendelsee Thun <info@scwe.ch>
SUMMARY:Apéro zwischendurch
END:VEVENT
END:VCALENDAR
