BEGIN:VCALENDAR
VERSION:2.0
PRODID:-//Segelclub Wendelsee Thun//NONSGML kigkonsult.se iCalcreator 2.16.
 12//
METHOD:PUBLISH
X-MS-OLK-FORCEINSPECTOROPEN:TRUE
BEGIN:VEVENT
UID:20260419T183844CEST-8759FojAx0@Segelclub Wendelsee Thun
DTSTAMP:20260419T163844Z
DESCRIPTION:Wegen dem Fest Strämueinweihung\, 100 Jahre Strämu und Hafenein
 weihung im Lachen verzichten wir auf den Maihöck einen Tag davor.\nFest im
  Strandbad und Einweihung neuer Hafen am Samstag\, 07. Mai 2022.\n\n24.03.
 2022/ der Vorstand
DTSTART:20220506T190000
DTEND:20220506T230000
LOCATION:SCWe-Clubraum
ORGANIZER:MAILTO:Segelclub Wendelsee Thun <info@scwe.ch>
SUMMARY:Kein Mai-Höck
END:VEVENT
END:VCALENDAR
