BEGIN:VCALENDAR
VERSION:2.0
PRODID:-//Segelclub Wendelsee Thun//NONSGML kigkonsult.se iCalcreator 2.16.
 12//
METHOD:PUBLISH
X-MS-OLK-FORCEINSPECTOROPEN:TRUE
BEGIN:VEVENT
UID:20260419T181909CEST-2862BPl23n@Segelclub Wendelsee Thun
DTSTAMP:20260419T161909Z
DESCRIPTION:\n\nRacletteabend - wie der verpasste Altjahrshöck\n\nAm Freita
 g\, 1. April 2022 \n- ab 19:00 Uhr Apéro\n- ab 19:30 Uhr Raclette\n\nEs la
 den ein: Heinz Gasser\, Daniel Walter und Koni Gysi.\nClubwirt: Fritz Bigl
 er und Paul Münger\nBitte anmelden bis So\, 27. März 2022.\n\nDer Vorstand
DTSTART:20220401T190000
DTEND:20220401T230000
LOCATION:SCWe-Clubraum
ORGANIZER:MAILTO:Segelclub Wendelsee Thun <info@scwe.ch>
SUMMARY:April-Höck: Racletteabend
END:VEVENT
END:VCALENDAR
