BEGIN:VCALENDAR
VERSION:2.0
PRODID:-//Segelclub Wendelsee Thun//NONSGML kigkonsult.se iCalcreator 2.16.
 12//
METHOD:PUBLISH
X-MS-OLK-FORCEINSPECTOROPEN:TRUE
BEGIN:VEVENT
UID:20260419T181908CEST-4486RoOjFs@Segelclub Wendelsee Thun
DTSTAMP:20260419T161908Z
DESCRIPTION:Leitung:  SCWe\nBeginn:  18:30 Uhr\nOrt:         Unteres Seebec
 ken\, Höhe Segelschule\n\nKeine Anmeldung - nur kommen und mitmachen.\n\nW
 eiter gehte es jeden Mittwochabend bis am 1. Juni jeweils um 18:30 Uhr.
DTSTART:20220504T183000
DTEND:20220504T200000
LOCATION:Unteres Seebecken
ORGANIZER:MAILTO:Segelclub Wendelsee Thun <info@scwe.ch>
SUMMARY:TBSV-Regattatraining I-2022
END:VEVENT
END:VCALENDAR
