BEGIN:VCALENDAR
VERSION:2.0
PRODID:-//Segelclub Wendelsee Thun//NONSGML kigkonsult.se iCalcreator 2.16.
 12//
METHOD:PUBLISH
X-MS-OLK-FORCEINSPECTOROPEN:TRUE
BEGIN:VEVENT
UID:20260419T183930CEST-8776lcJJOD@Segelclub Wendelsee Thun
DTSTAMP:20260419T163930Z
DESCRIPTION:Ansegeln in Form einer gemeinsamen Ausfahrt auf dem See mit ans
 chliessendem Umtrunk vor dem Clublokal.\nSegeln: Beginn um 13:30 Uhr auf d
 er Höhe der Segelschule.\nDetails siehe Einladung.\nUm eine Anmeldung wird
  gebeten an: info@scwe.ch\n\n01.04.2022/ Der Vorstand
DTSTART:20220514T133000
DTEND:20220514T180000
LOCATION:Unteres Seebecken / Clubhaus
ORGANIZER:MAILTO:Segelclub Wendelsee Thun <info@scwe.ch>
SUMMARY:Ansegeln
END:VEVENT
END:VCALENDAR
