BEGIN:VCALENDAR
VERSION:2.0
PRODID:-//Segelclub Wendelsee Thun//NONSGML kigkonsult.se iCalcreator 2.16.
 12//
METHOD:PUBLISH
X-MS-OLK-FORCEINSPECTOROPEN:TRUE
BEGIN:VEVENT
UID:20260419T181709CEST-1621kLXvwe@Segelclub Wendelsee Thun
DTSTAMP:20260419T161709Z
DESCRIPTION:
DTSTART:20220318T110000
DTEND:20220318T120000
LOCATION:Hotel Holiday
ORGANIZER:MAILTO:Segelclub Wendelsee Thun <info@scwe.ch>
SUMMARY:Apéro zwischendurch
END:VEVENT
END:VCALENDAR
