BEGIN:VCALENDAR
VERSION:2.0
PRODID:-//Segelclub Wendelsee Thun//NONSGML kigkonsult.se iCalcreator 2.16.
 12//
METHOD:PUBLISH
X-MS-OLK-FORCEINSPECTOROPEN:TRUE
BEGIN:VEVENT
UID:20260419T171652CEST-3583JzAkS0@Segelclub Wendelsee Thun
DTSTAMP:20260419T151652Z
DESCRIPTION:Liebe SCWe'ler\n \n\n​Auch in diesem Jahr steht der Mai Höck un
 ter französischen Sternen.\n\n \n\nGerne laden wir Euch zur traditionellen
  und berüchtigen Bouillabaisse mit ihrer Rouille ein.\n\n \n\nDanke für Eu
 re Anmeldungen bis spätestens Montag\, 2. Mai 2016 - 23:59\n\n \n\n \n
DTSTART:20160506T210000
DTEND:20160507T015900
LOCATION:Clublokal
ORGANIZER:MAILTO:Segelclub Wendelsee Thun <info@scwe.ch>
SUMMARY:Mai Höck
END:VEVENT
END:VCALENDAR
