BEGIN:VCALENDAR
VERSION:2.0
PRODID:-//Segelclub Wendelsee Thun//NONSGML kigkonsult.se iCalcreator 2.16.
 12//
METHOD:PUBLISH
X-MS-OLK-FORCEINSPECTOROPEN:TRUE
BEGIN:VEVENT
UID:20260419T181708CEST-8606iW6fvN@Segelclub Wendelsee Thun
DTSTAMP:20260419T161708Z
DESCRIPTION:Ungezwungener Apéro im Hotel Holiday.\nIn der Regel Mitte Monat
  am Freitag.\nEinfach kommen\; ohne Anmeldung.\n\nZeit: 11:00 - 12:00 Uhr.
DTSTART:20220218T110000
DTEND:20220218T120000
LOCATION:Hotel Holiday
ORGANIZER:MAILTO:Segelclub Wendelsee Thun <info@scwe.ch>
SUMMARY:Apéro zwischendurch
END:VEVENT
END:VCALENDAR
