BEGIN:VCALENDAR
VERSION:2.0
PRODID:-//Segelclub Wendelsee Thun//NONSGML kigkonsult.se iCalcreator 2.16.
 12//
METHOD:PUBLISH
X-MS-OLK-FORCEINSPECTOROPEN:TRUE
BEGIN:VEVENT
UID:20260419T181616CEST-5987VpJNxe@Segelclub Wendelsee Thun
DTSTAMP:20260419T161616Z
DESCRIPTION:Wir führen die GV 2022 wieder richtig vor Ort im Rössli Dürrena
 st durch.\nSiehe Mail mit der Einladung vom 01.03.2022.\n\nBeginn um 19:30
  Uhr
DTSTART:20220325T193000
DTEND:20220325T220000
LOCATION:Rössli Dürrenast
ORGANIZER:MAILTO:Segelclub Wendelsee Thun <info@scwe.ch>
SUMMARY:SCWe-GV 2022
END:VEVENT
END:VCALENDAR
