BEGIN:VCALENDAR
VERSION:2.0
PRODID:-//Segelclub Wendelsee Thun//NONSGML kigkonsult.se iCalcreator 2.16.
 12//
METHOD:PUBLISH
X-MS-OLK-FORCEINSPECTOROPEN:TRUE
BEGIN:VEVENT
UID:20260419T181809CEST-6638xZBt1B@Segelclub Wendelsee Thun
DTSTAMP:20260419T161809Z
DESCRIPTION:Im SCWe-Raum.\n- Apéro\n- Nachtessen\n- Dessert\n- Helferliste 
 2022
DTSTART:20220311T190000
DTEND:20220311T220000
LOCATION:In Thun
ORGANIZER:MAILTO:Segelclub Wendelsee Thun <info@scwe.ch>
SUMMARY:Helferabend
END:VEVENT
END:VCALENDAR
