BEGIN:VCALENDAR
VERSION:2.0
PRODID:-//Segelclub Wendelsee Thun//NONSGML kigkonsult.se iCalcreator 2.16.
 12//
METHOD:PUBLISH
X-MS-OLK-FORCEINSPECTOROPEN:TRUE
BEGIN:VEVENT
UID:20260419T181945CEST-6355xHTVK0@Segelclub Wendelsee Thun
DTSTAMP:20260419T161945Z
DESCRIPTION:Wegen der Coronasituation haben wir den Februarhöck abgesagt.\n
 \n16.01.2022\, der Vorstand\n
DTSTART:20220204T190000
DTEND:20220204T230000
LOCATION:SCWe-Clubraum
ORGANIZER:MAILTO:Segelclub Wendelsee Thun <info@scwe.ch>
SUMMARY:Februarhöck abgesagt
END:VEVENT
END:VCALENDAR
