BEGIN:VCALENDAR
VERSION:2.0
PRODID:-//Segelclub Wendelsee Thun//NONSGML kigkonsult.se iCalcreator 2.16.
 12//
METHOD:PUBLISH
X-MS-OLK-FORCEINSPECTOROPEN:TRUE
BEGIN:VEVENT
UID:20260419T183700CEST-36644f5AEb@Segelclub Wendelsee Thun
DTSTAMP:20260419T163700Z
DESCRIPTION:Ungezwungener Apéro - es soll kommen wer Lust hat.\nOhne Anmeld
 ung.\nEs gelten die aktuellen Covidmassnahmen für Restaurationsbetriebe.
DTSTART:20220114T110000
DTEND:20220114T120000
LOCATION:Holiday Thun
ORGANIZER:MAILTO:Segelclub Wendelsee Thun <info@scwe.ch>
SUMMARY:Apéro zwischendurch
END:VEVENT
END:VCALENDAR
