BEGIN:VCALENDAR
VERSION:2.0
PRODID:-//Segelclub Wendelsee Thun//NONSGML kigkonsult.se iCalcreator 2.16.
 12//
METHOD:PUBLISH
X-MS-OLK-FORCEINSPECTOROPEN:TRUE
BEGIN:VEVENT
UID:20260419T181946CEST-4811orOeV7@Segelclub Wendelsee Thun
DTSTAMP:20260419T161946Z
DESCRIPTION:Ohne Anmeldung soll kommen wer Lust hat.\n\nEs gelten die aktue
 llen Covidmassnahmen für Restaurationsbetriebe.
DTSTART:20211217T110000
DTEND:20211217T120000
LOCATION:Hotel Holiday
ORGANIZER:MAILTO:Segelclub Wendelsee Thun <info@scwe.ch>
SUMMARY:Apéro zwischendurch
END:VEVENT
END:VCALENDAR
