BEGIN:VCALENDAR
VERSION:2.0
PRODID:-//Segelclub Wendelsee Thun//NONSGML kigkonsult.se iCalcreator 2.16.
 12//
METHOD:PUBLISH
X-MS-OLK-FORCEINSPECTOROPEN:TRUE
BEGIN:VEVENT
UID:20260419T181946CEST-2063PhAnPJ@Segelclub Wendelsee Thun
DTSTAMP:20260419T161946Z
DESCRIPTION:Der Altjahrshöck vom 28. Dezember 2021 ist wegen der aktuellen 
 Coronasituation und den Massnahmen abgesagt.
DTSTART:20211228T190000
DTEND:20211228T230000
LOCATION:SCWe-Clubraum
ORGANIZER:MAILTO:Segelclub Wendelsee Thun <info@scwe.ch>
SUMMARY:Altjahrshöck abgesagt
END:VEVENT
END:VCALENDAR
