BEGIN:VCALENDAR
VERSION:2.0
PRODID:-//Segelclub Wendelsee Thun//NONSGML kigkonsult.se iCalcreator 2.16.
 12//
METHOD:PUBLISH
X-MS-OLK-FORCEINSPECTOROPEN:TRUE
BEGIN:VEVENT
UID:20260419T185338CEST-1853aK5OFF@Segelclub Wendelsee Thun
DTSTAMP:20260419T165338Z
DESCRIPTION:Der Chlousehöck sorgt für vorweihnächtliche Stimmung\n- Freitag
 \, 03.12.2021\n- Beginn um 19:00 Uhr\n- Details siehe in der Einladung\n- 
 Um eine Anmeldung bis 30.11.2021 wird gebeten
DTSTART:20211203T190000
DTEND:20211203T220000
LOCATION:SCWe-Clubraum
ORGANIZER:MAILTO:Segelclub Wendelsee Thun <info@scwe.ch>
SUMMARY:Chlousehöck
END:VEVENT
END:VCALENDAR
