BEGIN:VCALENDAR
VERSION:2.0
PRODID:-//Segelclub Wendelsee Thun//NONSGML kigkonsult.se iCalcreator 2.16.
 12//
METHOD:PUBLISH
X-MS-OLK-FORCEINSPECTOROPEN:TRUE
BEGIN:VEVENT
UID:20260419T185056CEST-8944zAI8Ce@Segelclub Wendelsee Thun
DTSTAMP:20260419T165056Z
DESCRIPTION:Das RUGRISE findet am Samstag\, 25.09.2021 statt.\n- Beginn mit
  Rudern um 09:00 Uhr\n- Am Mittag Grillieren\n- Am Nachmittag Segeln\n\nSi
 ehe Einladung.\n\nAnmeldung gerne mit dem Doodle: Doodle | RUGRISE
DTSTART:20210925T090000
DTEND:20210925T170000
LOCATION:Clublokal/ See
ORGANIZER:MAILTO:Segelclub Wendelsee Thun <info@scwe.ch>
SUMMARY:RUGRISE 2021
END:VEVENT
END:VCALENDAR
