BEGIN:VCALENDAR
VERSION:2.0
PRODID:-//Segelclub Wendelsee Thun//NONSGML kigkonsult.se iCalcreator 2.16.
 12//
METHOD:PUBLISH
X-MS-OLK-FORCEINSPECTOROPEN:TRUE
BEGIN:VEVENT
UID:20260419T171637CEST-9583Ljt3oo@Segelclub Wendelsee Thun
DTSTAMP:20260419T151637Z
DESCRIPTION:
DTSTART:20160415T200000
DTEND:20160415T220000
ORGANIZER:MAILTO:Segelclub Wendelsee Thun <info@scwe.ch>
SUMMARY:Generalversammlung
END:VEVENT
END:VCALENDAR
