BEGIN:VCALENDAR
VERSION:2.0
PRODID:-//Segelclub Wendelsee Thun//NONSGML kigkonsult.se iCalcreator 2.16.
 12//
METHOD:PUBLISH
X-MS-OLK-FORCEINSPECTOROPEN:TRUE
BEGIN:VEVENT
UID:20260419T185217CEST-3359WxtzOO@Segelclub Wendelsee Thun
DTSTAMP:20260419T165217Z
DESCRIPTION:Wir organisieren mit den Teilnehmenden vom Apéro zwischendurch 
 einen Ausflug:\nFrühstück\, Schifffahrt\, Besichtigung . . . .\n\nDer Ents
 cheid fällt Ende September.\n\n18.08.2021/ Paul Münger
DTSTART:20211015T090000
DTEND:20211015T093000
LOCATION:noch offen
ORGANIZER:MAILTO:Segelclub Wendelsee Thun <info@scwe.ch>
SUMMARY:Ausflug der Gruppe Apéro zwischendurch
END:VEVENT
END:VCALENDAR
